BEGIN:VCALENDAR
VERSION:2.0
PRODID:-//Göç Araştırmaları Vakfı - ECPv6.15.20//NONSGML v1.0//EN
CALSCALE:GREGORIAN
METHOD:PUBLISH
X-WR-CALNAME:Göç Araştırmaları Vakfı
X-ORIGINAL-URL:https://gocvakfi.org
X-WR-CALDESC:Göç Araştırmaları Vakfı için etkinlikler
REFRESH-INTERVAL;VALUE=DURATION:PT1H
X-Robots-Tag:noindex
X-PUBLISHED-TTL:PT1H
BEGIN:VTIMEZONE
TZID:UTC
BEGIN:STANDARD
TZOFFSETFROM:+0000
TZOFFSETTO:+0000
TZNAME:UTC
DTSTART:20200101T000000
END:STANDARD
END:VTIMEZONE
BEGIN:VEVENT
DTSTART;VALUE=DATE:20210930
DTEND;VALUE=DATE:20230601
DTSTAMP:20260422T222142
CREATED:20210213T192325Z
LAST-MODIFIED:20230605T070657Z
UID:934-1632960000-1685577599@gocvakfi.org
SUMMARY:Göç Politikaları ve Yönetimi İhtisas Programı
DESCRIPTION:Türkiye yüzyıllardır göçün merkezinde yer alan ve gerek dışarıdan aldığı gerekse de dışarıya verdiği göç ile derin bir göç hafızasına sahip olan bir ülkedir. Osmanlı İmparatorluğu’ndan günümüze kadar çeşitli göç tecrübelerinde farklı politikalar izlenmiştir. Günümüzde ise daha kapsamlı bir göç yönetiminin ele alınması gerektiği düşüncesinden hareketle\, uluslararası tecrübelerden de yararlanarak yeni bir göç yönetimi ve göç politikası geliştirilmesi elzemdir. \nBu yıl ilk defa düzenlenecek olan Göç Politikaları ve Yönetimi İhtisas Programında; göç meselesi tarihsel\, teorik ve pratik yönleriyle ele alınarak\, göçün politika boyutuna vurgu yapılarak katılımcıların göç politikaları ve yönetimi konusunda uzmanlaşması sağlanır. Ayrıca\, katılımcıların akademik anlamda daha derinlikli bilgi birikimine sahip olması\, bu bilgi birikimi ile teorik ve pratik anlamda katkı sağlamaları programın temel hedefleri arasındadır. \nHEDEF KİTLE\n• Göç Araştırmaları Vakfı Temel Eğitim Programından mezun olanlar.\n• Göç alanına ilgi duyan lisan mezunları ve lisansüstü öğrenciler.\n• Göç ile ilgili alanlarda kamu\, sivil\, özel ve uluslararası alanda çalışma yapanlar katılabilir. \nKATILIMCILARIN SORUMLULUKLARI\n•  Katılımcılar dönem içerisinde aldıkları her bir\nseminer için en az %80 oranında katılım\nsağlamak zorundadırlar. Her hafta için\nseminerlerin verilen okumalarını yapmalı ve en az 1 sayfalık değerlendirme yazmaları gerekmektedir. \n•  Katılımcılar her dönem sonunda belirlenecek bir\nkonu hakkında iki seminer için de akademik bir\nmakale yazacaklardır. \n•  Programın sonunda ise bir bitirme ödevi/tezi\nhazırlayacaklardır. \n•  Seminerlerin dili Türkçedir. Diğer taraftan\nkatılımcıların\, en az B2 seviyesinde İngilizceye\nhâkim olmaları gerekmektedir. \n4. PROGRAMA NASIL BAŞVURULUR? \ngavsistem.gocvakfi.org adresinden yeni üyelik oluşturulur.\nArdından özgeçmiş formu doldurulur.\nÖzgeçmiş oluşturulduktan sonra Anasayfada\, “Başvurular” başlığının altında yer alan “Göç Politikaları ve Yönetimi İhtisas Programı 2021-2023” butonuna basılarak istenlen bilgiler eklenir. \nTüm adımlar gerçekleçtirildiğinde başvuru işlemi tamalanmış olur. Yapılan tüm başvurular Göç ve Diaspora Akademisi Koordinatörlüğü tarafından değerlendililerek başvuru sahiplerine dönüş yapılır. \n  \n5. DEĞERLENDİRME SÜRECİ NASIL İŞLER? \nBAŞVURULARIN ALINMASI\nİlan edilen başvuru tarihleri arasında GAV\nSistem üzerinden başvurular alınır. \nÖN DEĞERLENDİRME\nBaşvurular sona erdiğinde tüm başvurular\nGöç ve Diaspora Akademisi Koordinatörlüğü\ntarafından ön değerlendirmeye alınır. \nMÜLAKAT\nGerekli şartları sağlayan adaylar mülakata\ndavet edilir. Mülakatlar tercihen yüzyüze\ngerçekleştirilir. Duruma göre de online\nolarak yapılabilmektedir. \nSONUÇ\nDeğerlendirme sonuçlarının kesinleşmesiyle başvuran adaylara telefon ve/veya e-posta yoluyla bildirilir. \n  \nGöç Politikaları ve Yönetimi İhtisas Programı Tanıtım Kitapçığı\nDiğer Eğitim Programlarımızı Görmek için Tıklayınız
URL:https://gocvakfi.org/etkinlikler/goc-politikalari-ve-yonetimi-ihtisas-programi-2/
LOCATION:Göç Araştırmaları Vakfı
CATEGORIES:all-events,İP,Latest Events
ATTACH;FMTTYPE=image/jpeg:https://gocvakfi.org/wp-content/uploads/2021/06/Goc-Politikalari-ve-Yonetimi-Ihtisas-Programi-Tanitim-Kitapcigi-3-16-scaled-1.jpg
END:VEVENT
BEGIN:VEVENT
DTSTART;VALUE=DATE:20211001
DTEND;VALUE=DATE:20230601
DTSTAMP:20260422T222142
CREATED:20210613T151418Z
LAST-MODIFIED:20250527T085751Z
UID:787-1633122000-1685566799@gocvakfi.org
SUMMARY:Diaspora Politikaları ve Yönetimi İhtisas Programı
DESCRIPTION:Son yıllarda daha görünür ve yaygın olan diasporalar uluslararası siyasal ve sosyal yapının temel bileşenlerinden birisi olmuştur. Diasporalar tarihsel süreçte değişen siyasal yapılarla birlikte evirilmiş; modern ulus devletin hakim siyasal yapı olmasıyla diasporalar ulus ötesi formlar olarak hemen her milletin sahip olduğu unsurlar olmuştur. Bu durum devletlerin sosyo-kültürel\, ekonomik\, eğitim\, siyasi ve hukuki alanlarda diaspora politikaları inşa etmelerine yol açmıştır. Diğer taraftan\, diaspora politikası ve yönetimi konusu uzun yıllardır milyonlarca insanı yurtdışında yaşayan Türkiye için de stratejik bir öneme sahiptir. \n2021 yılı itibariyle ilk defa yapılan “Diaspora Politikaları ve Yönetimi İhtisas Programı”; diaspora kavramına\, Türk diasporasının oluşum sürecine\, diaspora politikalarına\, diasporanın ekonomik yönüne\, sosyal refah boyutuna\, dil\, kültür\, entegrasyon\, asimilasyon gibi tartışmalı alanlardan\, diasporada güvenlik konusuna varıncaya kadar multidisipliner bir çalışma ortaya koymayı hedeflemektedir. Bu programda katılımcılar akademik anlamda daha derinlikli bilgi birikimine sahip olacaklar ve bu bilgi birikimi ile bu alandaki çalışmalara daha nitelikli katkı sunacaklardır. Bunların yanında\, Türk diasporasının meseleleri\, gündemi ve buna yönelik çözüm önerilerinin akademik bir zeminden tartışılması hedeflenerek uygulamalara yönelik çözümler gündeme getirilecektir. \nHEDEF KİTLE\n• Göç Araştırmaları Vakfı Temel Eğitim Programından mezun olanlar\,\n• Göç alanına ilgi duyan lisans mezunları ve lisansüstü öğrenciler\,\n• Göç ile ilgili alanlarda kamu\, sivil\, özel ve uluslararası alanda çalışma yapanlar katılabilir. \nKATILIMCILARIN SORUMLULUKLARI\n•  Katılımcılar dönem içerisinde aldıkları her bir seminer için en az %80 oranında katılım sağlamak zorundadırlar. Her hafta için seminerlerin verilen okumalarını yapmalı ve en az 1 sayfalık değerlendirme yazmaları gerekmektedir. \n•  Katılımcılar her dönem sonunda belirlenecek bir konu hakkında iki seminer için de akademik bir makale yazacaklardır. \n•  Programın sonunda ise bir bitirme ödevi/tezi hazırlayacaklardır. \n•  Seminerlerin dili Türkçedir. Diğer taraftan katılımcıların\, en az B2 seviyesinde İngilizceye hâkim olmaları gerekmektedir. \nPROGRAMA NASIL BAŞVURULUR?\n• gavsistem.gocvakfi.org adresinden yeni üyelik oluşturulur.\n• Ardından özgeçmiş formu doldurulur.\n• Özgeçmiş oluşturulduktan sonra ana sayfada\, “Diaspora Politikaları ve Yönetimi İhtisas Programı 2021-2023” butonuna basılarak istenilen bilgiler eklenir. \nTüm adımlar gerçekleştirildiğinde başvuru işlemi tamamlanmış olur. Yapılan tüm başvurular Göç ve Diaspora Akademisi Koordinatörlüğü tarafından değerlendirilerek başvuru sahiplerine dönüş yapılır. \n  \nDEĞERLENDİRME SÜRECİ NASIL İŞLER?\nBAŞVURULARIN ALINMASI\nİlan edilen başvuru tarihleri arasında GAV Sistem üzerinden başvurular alınır. \nÖN DEĞERLENDİRME\nBaşvurular sona erdiğinde tüm başvurular Göç ve Diaspora Akademisi Koordinatörlüğü tarafından ön değerlendirmeye alınır. \nMÜLAKAT\nGerekli şartları sağlayan adaylar mülakata davet edilir. Mülakatlar tercihen yüz yüze gerçekleştirilir. Duruma göre de çevrim içi olarak yapılabilmektedir. \nSONUÇ\nDeğerlendirme sonuçlarının kesinleşmesiyle başvuran adaylara telefon ve/veya e-posta yoluyla bildirilir. \nDiaspora Politikaları ve Yönetimi Ihtisas Programı Tanıtım Kitapçığı\nDiğer Eğitim Programlarımızı Görmek için Tıklayınız \n 
URL:https://gocvakfi.org/etkinlikler/diaspora-politikalari-ve-yonetimi-ihtisas-programi/
LOCATION:Göç Araştırmaları Vakfı
CATEGORIES:all-events,İP,Latest Events
ATTACH;FMTTYPE=image/jpeg:https://gocvakfi.org/wp-content/uploads/2021/06/Diaspora-Politikalari-ve-Yonetimi-Ihtisas-Programi-Tanitim-Kitapcigi-3-15-16-scaled-1.jpg
END:VEVENT
END:VCALENDAR