BEGIN:VCALENDAR
VERSION:2.0
PRODID:-//Göç Araştırmaları Vakfı - ECPv6.15.20//NONSGML v1.0//EN
CALSCALE:GREGORIAN
METHOD:PUBLISH
X-WR-CALNAME:Göç Araştırmaları Vakfı
X-ORIGINAL-URL:https://gocvakfi.org
X-WR-CALDESC:Göç Araştırmaları Vakfı için etkinlikler
REFRESH-INTERVAL;VALUE=DURATION:PT1H
X-Robots-Tag:noindex
X-PUBLISHED-TTL:PT1H
BEGIN:VTIMEZONE
TZID:UTC
BEGIN:STANDARD
TZOFFSETFROM:+0000
TZOFFSETTO:+0000
TZNAME:UTC
DTSTART:20250101T000000
END:STANDARD
END:VTIMEZONE
BEGIN:VEVENT
DTSTART;TZID=UTC:20260108T210000
DTEND;TZID=UTC:20260108T230000
DTSTAMP:20260423T142916
CREATED:20251216T075710Z
LAST-MODIFIED:20251216T075710Z
UID:9058-1767906000-1767913200@gocvakfi.org
SUMMARY:Tez Sunumları Seminer Serisi “Almanya’da Yaşayan Türklerin Kuşaklararası Farklılaşan İki Dillilik Deneyimleri”
DESCRIPTION:Dr. Banu Demirbaş
URL:https://gocvakfi.org/etkinlikler/tez-sunumlari-seminer-serisi-almanyada-yasayan-turklerin-kusaklararasi-farklilasan-iki-dillilik-deneyimleri/
LOCATION:Göç Araştırmaları Vakfı / Göç Araştırmaları Vakfı Zoom Platformu
CATEGORIES:Etkinlikler
ORGANIZER;CN="G%C3%B6%C3%A7 Ara%C5%9Ft%C4%B1rmalar%C4%B1 Vakf%C4%B1":MAILTO:asdasdsa@gmail.com
END:VEVENT
BEGIN:VEVENT
DTSTART;TZID=UTC:20260108T210000
DTEND;TZID=UTC:20260108T230000
DTSTAMP:20260423T142916
CREATED:20251230T081009Z
LAST-MODIFIED:20251230T081009Z
UID:9124-1767906000-1767913200@gocvakfi.org
SUMMARY:Tez Sunumları Seminer Serisi “Almanya’da Yaşayan Türklerin Kuşaklararası Farklılaşan İki Dillilik Deneyimleri”
DESCRIPTION:Konuşmacı: Dr. Banu Demirbaş
URL:https://gocvakfi.org/etkinlikler/tez-sunumlari-seminer-serisi-almanyada-yasayan-turklerin-kusaklararasi-farklilasan-iki-dillilik-deneyimleri-2/
LOCATION:Göç Araştırmaları Vakfı / Göç Araştırmaları Vakfı Zoom Platformu
CATEGORIES:Etkinlikler
ORGANIZER;CN="G%C3%B6%C3%A7 Ara%C5%9Ft%C4%B1rmalar%C4%B1 Vakf%C4%B1":MAILTO:asdasdsa@gmail.com
END:VEVENT
BEGIN:VEVENT
DTSTART;TZID=UTC:20260127T213000
DTEND;TZID=UTC:20260127T230000
DTSTAMP:20260423T142916
CREATED:20251230T081129Z
LAST-MODIFIED:20260112T105232Z
UID:9126-1769549400-1769554800@gocvakfi.org
SUMMARY:Almanya Devlet Üniversitelerinde İslam İlahiyatı ve Okullarda İslam Din Dersleri
DESCRIPTION:Konuşmacılar: Dr. Hakan Aydın\, Murat Gümüş\, Birgül Karaarslan\, Prof. Dr. Tuba Işık
URL:https://gocvakfi.org/etkinlikler/almanya-devlet-universitelerinde-islam-ilahiyati-ve-okullarda-islam-din-dersleri-2/
LOCATION:Göç Araştırmaları Vakfı / Göç Araştırmaları Vakfı Zoom Platformu
CATEGORIES:Etkinlikler
ORGANIZER;CN="G%C3%B6%C3%A7 Ara%C5%9Ft%C4%B1rmalar%C4%B1 Vakf%C4%B1":MAILTO:asdasdsa@gmail.com
END:VEVENT
END:VCALENDAR