BEGIN:VCALENDAR
VERSION:2.0
PRODID:-//Göç Araştırmaları Vakfı - ECPv6.15.20//NONSGML v1.0//EN
CALSCALE:GREGORIAN
METHOD:PUBLISH
X-ORIGINAL-URL:https://gocvakfi.org
X-WR-CALDESC:Göç Araştırmaları Vakfı için etkinlikler
REFRESH-INTERVAL;VALUE=DURATION:PT1H
X-Robots-Tag:noindex
X-PUBLISHED-TTL:PT1H
BEGIN:VTIMEZONE
TZID:UTC
BEGIN:STANDARD
TZOFFSETFROM:+0000
TZOFFSETTO:+0000
TZNAME:UTC
DTSTART:20230101T000000
END:STANDARD
END:VTIMEZONE
BEGIN:VEVENT
DTSTART;TZID=UTC:20240504T100000
DTEND;TZID=UTC:20240504T120000
DTSTAMP:20260425T025400
CREATED:20250527T115809Z
LAST-MODIFIED:20250527T115809Z
UID:7605-1714816800-1714824000@gocvakfi.org
SUMMARY:Erasmus+ Proje Yazma Eğitimi 1. Hafta
DESCRIPTION:Doç. Dr. Hakan Gülerce eğitmenliğinde uygulamalı ve katılım belgeli Erasmus+ Proje Yazma Eğitimi’mizin ilk dersini tamamladık.
URL:https://gocvakfi.org/etkinlikler/erasmus-proje-yazma-egitimi-1-hafta/
LOCATION:Göç Araştırmaları Vakfı / Göç Araştırmaları Vakfı Zoom Platformu
CATEGORIES:Etkinlikler
ORGANIZER;CN="G%C3%B6%C3%A7 Ara%C5%9Ft%C4%B1rmalar%C4%B1 Vakf%C4%B1":MAILTO:asdasdsa@gmail.com
END:VEVENT
BEGIN:VEVENT
DTSTART;TZID=UTC:20240504T140000
DTEND;TZID=UTC:20240504T160000
DTSTAMP:20260425T025400
CREATED:20250527T122510Z
LAST-MODIFIED:20250527T122510Z
UID:7638-1714831200-1714838400@gocvakfi.org
SUMMARY:Tez Sunumları Seminer Serisi: Hollanda’daki Türk Sivil Toplum Kuruluşlarının Türk Gençlerinin Kültürel Aktarım ve Entegrasyon Süreçlerindeki Rolü (Buse Işıkhan)
DESCRIPTION:Akademimiz bünyesinde başlatılan Tez Sunumları Seminer Serimiz kapsamında Dr. Buse Işıkhan’ın konuşmacı olacağı “Hollanda’daki Türk Sivil Toplum Kuruluşlarının Türk Gençlerinin Kültürel Aktarım ve Entegrasyon Süreçlerindeki Rolü” başlıklı seminerimiz 4 Mayıs Cumartesi günü Türkiye saati ile 14.00’da Zoom üzerinden çevrim içi olarak gerçekleşecektir. \nNot: Çevrim içi olarak gerçekleşecek etkinliğimize katılım herkese açıktır. Zoom bilgileri aşağıdadır. \nToplantı Kimliği: 873 6835 7438 \nParola: 317154
URL:https://gocvakfi.org/etkinlikler/tez-sunumlari-seminer-serisi-hollandadaki-turk-sivil-toplum-kuruluslarinin-turk-genclerinin-kulturel-aktarim-ve-entegrasyon-sureclerindeki-rolu-buse-isikhan/
LOCATION:Göç Araştırmaları Vakfı / Göç Araştırmaları Vakfı Zoom Platformu
CATEGORIES:Etkinlikler
ATTACH;FMTTYPE=image/jpeg:https://gocvakfi.org/wp-content/uploads/2025/05/gocvkf_seminer_banner_buse_isikhan_2560x1800px_2024-2-scaled-1.jpg
ORGANIZER;CN="G%C3%B6%C3%A7 Ara%C5%9Ft%C4%B1rmalar%C4%B1 Vakf%C4%B1":MAILTO:asdasdsa@gmail.com
END:VEVENT
BEGIN:VEVENT
DTSTART;TZID=UTC:20240511T140000
DTEND;TZID=UTC:20240511T160000
DTSTAMP:20260425T025400
CREATED:20250527T122343Z
LAST-MODIFIED:20250527T123015Z
UID:7635-1715436000-1715443200@gocvakfi.org
SUMMARY:Tez Sunumları Seminer Serisi: Uluslararası Göçün Temel Makroekonomik Göstergeler Üzerine Etkisi (Tuğba Konuk)
DESCRIPTION:Akademimiz bünyesinde başlatılan Tez Sunumları Seminer Serimiz kapsamında Dr. Tuğba Konuk’un konuşmacı olacağı “Uluslararası Göçün Temel Makroekonomik Göstergeler Üzerine Etkisi” başlıklı seminerimiz 11 Mayıs Cumartesi günü Türkiye saati ile 14.00’da Zoom üzerinden çevrim içi olarak gerçekleşecektir. \nNot: Çevrim içi olarak gerçekleşecek etkinliğimize katılım herkese açıktır. Zoom bilgileri aşağıdadır. \nToplantı Kimliği: 873 6835 7438\nParola: 317154
URL:https://gocvakfi.org/etkinlikler/tez-sunumlari-seminer-serisi-uluslararasi-gocun-temel-makroekonomik-gostergeler-uzerine-etkisi/
LOCATION:Göç Araştırmaları Vakfı / Göç Araştırmaları Vakfı Zoom Platformu
CATEGORIES:Etkinlikler
ATTACH;FMTTYPE=image/jpeg:https://gocvakfi.org/wp-content/uploads/2025/05/gocvkf_seminer_banner_tugba_konuk_2560x1800px_2024_2-min-1-scaled-1.jpg
ORGANIZER;CN="G%C3%B6%C3%A7 Ara%C5%9Ft%C4%B1rmalar%C4%B1 Vakf%C4%B1":MAILTO:asdasdsa@gmail.com
END:VEVENT
BEGIN:VEVENT
DTSTART;TZID=UTC:20240515T100000
DTEND;TZID=UTC:20240515T120000
DTSTAMP:20260425T025400
CREATED:20250526T140137Z
LAST-MODIFIED:20250526T140137Z
UID:7507-1715767200-1715774400@gocvakfi.org
SUMMARY:Türkiye-Avusturya İş Gücü Anlaşması 60.Yıl Konferansı
DESCRIPTION:”Türkiye-Avusturya İş Gücü Anlaşması 60. Yıl Konferansı”mıza bekliyoruz! \nİş gücü anlaşmasının 60. yıl dönümü münasebetiyle 15 Mayıs tarihinde yapacağımız konferans kapsamında; Türkiye’den Avusturya’ya yönelen göçün tarihi\, Avusturya’daki Türk diasporasının oluşumu ve mevcut durumunun değerlendirilmesi yapılacaktır. Diğer taraftan program içerisinde Avusturya’nın göç ve göçmen politikaları bağlamında kültür\, kimlik ve aidiyet meselelerine değinilecek\, Avusturya’daki Türkler arasında örgütlenme ve siyasal katılım ile Avusturya’da İslam ve Müslümanlar konularında mevcut sorunlara vurgu yapılacaktır. Konferans kapsamında iki ülke arasındaki ilişkiler değerlendirilerek bir gelecek projeksiyonu çizilmesi amaçlanmaktadır. \n15 Mayıs 2024 Çarşamba günü saat 10.00’da çevrim içi olarak düzenlenecek konferansa katılım herkese açıktır. \nZoom Bilgileri:\nToplantı Kimliği: 839 6080 9886\nParola:893974
URL:https://gocvakfi.org/etkinlikler/turkiye-avusturya-is-gucu-anlasmasi-60-yil-konferansi/
LOCATION:Göç Araştırmaları Vakfı / Göç Araştırmaları Vakfı Zoom Platformu
CATEGORIES:Etkinlikler
ATTACH;FMTTYPE=image/jpeg:https://gocvakfi.org/wp-content/uploads/2025/05/gocvkf_konferans_15mayis_banner_2560x1800px_2024-1-2-scaled-1.jpg
ORGANIZER;CN="G%C3%B6%C3%A7 Ara%C5%9Ft%C4%B1rmalar%C4%B1 Vakf%C4%B1":MAILTO:asdasdsa@gmail.com
END:VEVENT
BEGIN:VEVENT
DTSTART;TZID=UTC:20240518T100000
DTEND;TZID=UTC:20240518T120000
DTSTAMP:20260425T025400
CREATED:20250527T115950Z
LAST-MODIFIED:20250527T122913Z
UID:7607-1716026400-1716033600@gocvakfi.org
SUMMARY:Erasmus+ Proje Yazma Eğitimi 2. Hafta
DESCRIPTION:Doç. Dr. Hakan Gülerce’nin eğitmenliğinde uygulamalı olarak gerçekleştirilen Erasmus+ Proje Yazma Eğitimi’mizin ikinci dersi tamamlandı.
URL:https://gocvakfi.org/etkinlikler/erasmus-proje-yazma-egitimi-2-hafta/
LOCATION:Göç Araştırmaları Vakfı / Göç Araştırmaları Vakfı Zoom Platformu
CATEGORIES:Etkinlikler
ORGANIZER;CN="G%C3%B6%C3%A7 Ara%C5%9Ft%C4%B1rmalar%C4%B1 Vakf%C4%B1":MAILTO:asdasdsa@gmail.com
END:VEVENT
BEGIN:VEVENT
DTSTART;TZID=UTC:20240518T140000
DTEND;TZID=UTC:20240518T160000
DTSTAMP:20260425T025400
CREATED:20250527T122205Z
LAST-MODIFIED:20250527T122234Z
UID:7632-1716040800-1716048000@gocvakfi.org
SUMMARY:Tez Sunumları Seminer Serisi: Türkiye’nin Yeni Uluslararası Göç Yönetimi (Sibel Utar)
DESCRIPTION:Akademimiz bünyesinde başlatılan Tez Sunumları Seminer Serimiz kapsamında Dr. Sibel Utar’nın konuşmacı olacağı “Türkiye’nin yeni uluslararası göç yönetimi” başlıklı seminerimiz 18 Mayıs Cumartesi günü Türkiye saati ile 14.00’da Zoom üzerinden çevrim içi olarak gerçekleşecektir. \nNot: Çevrim içi olarak gerçekleşecek etkinliğimize katılım herkese açıktır. Zoom bilgileri aşağıdadır. \nToplantı Kimliği: 873 6835 7438 \nParola: 317154
URL:https://gocvakfi.org/etkinlikler/tez-sunumlari-seminer-serisi-turkiyenin-yeni-uluslararasi-goc-yonetimi-sibel-utar/
LOCATION:Göç Araştırmaları Vakfı / Göç Araştırmaları Vakfı Zoom Platformu
CATEGORIES:Etkinlikler
ATTACH;FMTTYPE=image/jpeg:https://gocvakfi.org/wp-content/uploads/2025/05/0-min-scaled-1.jpg
ORGANIZER;CN="G%C3%B6%C3%A7 Ara%C5%9Ft%C4%B1rmalar%C4%B1 Vakf%C4%B1":MAILTO:asdasdsa@gmail.com
END:VEVENT
BEGIN:VEVENT
DTSTART;VALUE=DATE:20240525
DTEND;VALUE=DATE:20240527
DTSTAMP:20260425T025400
CREATED:20250526T141104Z
LAST-MODIFIED:20250526T141104Z
UID:7517-1716595200-1716767999@gocvakfi.org
SUMMARY:Değişen Öteki Algısı ve Uygulamadaki Dönüşümler II Çalıştayı
DESCRIPTION:Göç Araştırmaları Vakfı olarak yerli ve göçmen sivil toplum kuruluşları ve aktivistlerle birlikte 9 Eylül 2023 tarihinde gerçekleştirdiğimiz “Değişen Öteki Algısı ve Uygulamadaki Dönüşümler I” programında\, ikinci bir çalışma toplantısının yapılması kararlaştırılmıştı. \nBu vesileyle gerçekleştirilen “Değişen Öteki Algısı ve Uygulamadaki Dönüşümler II Çalıştayı” ile mevcut yabancı düşmanlığının geçmişi ve bugünü değerlendirilerek toplumdaki göçmen algısındaki ve devletin göçmenlere yaklaşımındaki değişim tartışılarak tespit ve çözüm önerilerinde bulunuldu. \nİki gün boyunca ayrımcılık ve yabancı düşmanlığını merkeze alarak göçmenlerin karşılaştıkları sorunları uzmanlar ve STK temsilcileriyle tartıştık. Ayrıca bu sorunların çözümlerine ilişkin bir yol haritası çıkarmaya çalıştık.
URL:https://gocvakfi.org/etkinlikler/degisen-oteki-algisi-ve-uygulamadaki-donusumler-ii-calistayi/
LOCATION:Göç Araştırmaları Vakfı
CATEGORIES:Etkinlikler
ATTACH;FMTTYPE=image/png:https://gocvakfi.org/wp-content/uploads/2025/05/gav_calistay_mayis_afis_web_banner_2560x1800px_2024-01.png
ORGANIZER;CN="G%C3%B6%C3%A7 Ara%C5%9Ft%C4%B1rmalar%C4%B1 Vakf%C4%B1":MAILTO:asdasdsa@gmail.com
END:VEVENT
END:VCALENDAR