BEGIN:VCALENDAR
VERSION:2.0
PRODID:-//Göç Araştırmaları Vakfı - ECPv6.15.20//NONSGML v1.0//EN
CALSCALE:GREGORIAN
METHOD:PUBLISH
X-WR-CALNAME:Göç Araştırmaları Vakfı
X-ORIGINAL-URL:https://gocvakfi.org
X-WR-CALDESC:Göç Araştırmaları Vakfı için etkinlikler
REFRESH-INTERVAL;VALUE=DURATION:PT1H
X-Robots-Tag:noindex
X-PUBLISHED-TTL:PT1H
BEGIN:VTIMEZONE
TZID:UTC
BEGIN:STANDARD
TZOFFSETFROM:+0000
TZOFFSETTO:+0000
TZNAME:UTC
DTSTART:20250101T000000
END:STANDARD
END:VTIMEZONE
BEGIN:VEVENT
DTSTART;TZID=UTC:20260422T210000
DTEND;TZID=UTC:20260422T223000
DTSTAMP:20260422T043448
CREATED:20250703T101551Z
LAST-MODIFIED:20250703T101551Z
UID:7908-1776891600-1776897000@gocvakfi.org
SUMMARY:Türkiye- Makedonya Kültürel İş Birliği Programı Anlaşması Bağlamında Makedonya’daki Türkler Webinarı
DESCRIPTION:
URL:https://gocvakfi.org/etkinlikler/turkiye-makedonya-kulturel-is-birligi-programi-anlasmasi-baglaminda-makedonyadaki-turkler-webinari/
LOCATION:Göç Araştırmaları Vakfı / Göç Araştırmaları Vakfı Zoom Platformu
CATEGORIES:Etkinlikler
ORGANIZER;CN="G%C3%B6%C3%A7 Ara%C5%9Ft%C4%B1rmalar%C4%B1 Vakf%C4%B1":MAILTO:asdasdsa@gmail.com
END:VEVENT
BEGIN:VEVENT
DTSTART;TZID=UTC:20260430T210000
DTEND;TZID=UTC:20260430T230000
DTSTAMP:20260422T043448
CREATED:20260409T084405Z
LAST-MODIFIED:20260409T084405Z
UID:10015-1777582800-1777590000@gocvakfi.org
SUMMARY:"Özgün Bir Model Olarak Belçika'da Din Eğitimi: Devlet\, Temsil ve Müslüman Toplum" Webinarı
DESCRIPTION:Konuşmacılar: Dr. Abdulhalim İnam\, Mehmet Üstün\nModeratör: Dr. Burak Yetimoğlu
URL:https://gocvakfi.org/etkinlikler/ozgun-bir-model-olarak-belcikada-din-egitimi-devlet-temsil-ve-musluman-toplum-webinari/
LOCATION:Göç Araştırmaları Vakfı / Göç Araştırmaları Vakfı Zoom Platformu
CATEGORIES:all-events,Etkinlikler
ORGANIZER;CN="G%C3%B6%C3%A7 Ara%C5%9Ft%C4%B1rmalar%C4%B1 Vakf%C4%B1":MAILTO:asdasdsa@gmail.com
END:VEVENT
BEGIN:VEVENT
DTSTART;TZID=UTC:20260510T210000
DTEND;TZID=UTC:20260510T223000
DTSTAMP:20260422T043448
CREATED:20250703T081351Z
LAST-MODIFIED:20250703T081351Z
UID:7886-1778446800-1778452200@gocvakfi.org
SUMMARY:Türkiye’den Beyin Göçü Webinarı
DESCRIPTION:
URL:https://gocvakfi.org/etkinlikler/turkiyeden-beyin-gocu-webinari/
LOCATION:Göç Araştırmaları Vakfı / Göç Araştırmaları Vakfı Zoom Platformu
CATEGORIES:Etkinlikler
ORGANIZER;CN="G%C3%B6%C3%A7 Ara%C5%9Ft%C4%B1rmalar%C4%B1 Vakf%C4%B1":MAILTO:asdasdsa@gmail.com
END:VEVENT
BEGIN:VEVENT
DTSTART;TZID=UTC:20260512T210000
DTEND;TZID=UTC:20260512T223000
DTSTAMP:20260422T043448
CREATED:20250703T101644Z
LAST-MODIFIED:20250703T101644Z
UID:7910-1778619600-1778625000@gocvakfi.org
SUMMARY:Türkiye-Hollanda Kültür Anlaşması Webinarı
DESCRIPTION:
URL:https://gocvakfi.org/etkinlikler/turkiye-hollanda-kultur-anlasmasi-webinari/
LOCATION:Göç Araştırmaları Vakfı / Göç Araştırmaları Vakfı Zoom Platformu
CATEGORIES:Etkinlikler
END:VEVENT
BEGIN:VEVENT
DTSTART;TZID=UTC:20260618T210000
DTEND;TZID=UTC:20260618T223000
DTSTAMP:20260422T043448
CREATED:20250703T081517Z
LAST-MODIFIED:20250703T081517Z
UID:7888-1781816400-1781821800@gocvakfi.org
SUMMARY:Nefret Söylemiyle Mücadele Uluslararası Günü Etkinliği
DESCRIPTION:
URL:https://gocvakfi.org/etkinlikler/nefret-soylemiyle-mucadele-uluslararasi-gunu-etkinligi/
LOCATION:Göç Araştırmaları Vakfı / Göç Araştırmaları Vakfı Zoom Platformu
CATEGORIES:Etkinlikler
ORGANIZER;CN="G%C3%B6%C3%A7 Ara%C5%9Ft%C4%B1rmalar%C4%B1 Vakf%C4%B1":MAILTO:asdasdsa@gmail.com
END:VEVENT
END:VCALENDAR