BEGIN:VCALENDAR
VERSION:2.0
PRODID:-//Göç Araştırmaları Vakfı - ECPv6.15.20//NONSGML v1.0//EN
CALSCALE:GREGORIAN
METHOD:PUBLISH
X-WR-CALNAME:Göç Araştırmaları Vakfı
X-ORIGINAL-URL:https://gocvakfi.org
X-WR-CALDESC:Göç Araştırmaları Vakfı için etkinlikler
REFRESH-INTERVAL;VALUE=DURATION:PT1H
X-Robots-Tag:noindex
X-PUBLISHED-TTL:PT1H
BEGIN:VTIMEZONE
TZID:UTC
BEGIN:STANDARD
TZOFFSETFROM:+0000
TZOFFSETTO:+0000
TZNAME:UTC
DTSTART:20240101T000000
END:STANDARD
END:VTIMEZONE
BEGIN:VEVENT
DTSTART;TZID=UTC:20250703T210000
DTEND;TZID=UTC:20250703T223000
DTSTAMP:20260424T040410
CREATED:20250702T090849Z
LAST-MODIFIED:20250702T123932Z
UID:7848-1751576400-1751581800@gocvakfi.org
SUMMARY:İran Sınırında Göç ve İnsan Hareketlilikleri Webinarı/Konuşmacı: Prof. Dr. Orhan Deniz
DESCRIPTION:“İran Sınırında Göç ve İnsan Hareketlilikleri” webinarına davetlisiniz. \nTarih: 3 Temmuz Perşembe\nSaat: 21.00 (TSİ)\nZoom \nGöç Araştırmaları Vakfı tarafından Doç. Dr. Ali Zafer Sağıroğlu moderatörlüğünde gerçekleştirilecek programda\, Prof. Dr. Orhan Deniz konuşmacı olacaktır. \nÇevrim içi olarak gerçekleştirilecek program; akademisyenler\, araştırmacılar\, öğrenciler ve göç çalışmalarına ilgi duyan herkesin katılımına açıktır. \nZoom Bilgileri\nBağlantı: https://us02web.zoom.us/j/81918625309?pwd=pQ1fhHJgCbI23ES6bPiCZ8Hn7Gpvfd.1\nToplantı Kimliği: 819 1862 5309\nParola: 637259 \nQR kodu okutarak doğrudan katılabilirsiniz.
URL:https://gocvakfi.org/etkinlikler/iran-sinirinda-goc-ve-insan-hareketlilikleri-webinari-konusmaci-prof-dr-orhan-deniz/
LOCATION:Göç Araştırmaları Vakfı / Göç Araştırmaları Vakfı Zoom Platformu
CATEGORIES:Etkinlikler
ATTACH;FMTTYPE=image/png:https://gocvakfi.org/wp-content/uploads/2025/06/Iran-Sinirinda-Goc-ve-Insan-Hareketlilikleri-2560-x-1800-piksel.png
ORGANIZER;CN="G%C3%B6%C3%A7 Ara%C5%9Ft%C4%B1rmalar%C4%B1 Vakf%C4%B1":MAILTO:asdasdsa@gmail.com
END:VEVENT
END:VCALENDAR