BEGIN:VCALENDAR
VERSION:2.0
PRODID:-//Göç Araştırmaları Vakfı - ECPv6.15.20//NONSGML v1.0//EN
CALSCALE:GREGORIAN
METHOD:PUBLISH
X-WR-CALNAME:Göç Araştırmaları Vakfı
X-ORIGINAL-URL:https://gocvakfi.org
X-WR-CALDESC:Göç Araştırmaları Vakfı için etkinlikler
REFRESH-INTERVAL;VALUE=DURATION:PT1H
X-Robots-Tag:noindex
X-PUBLISHED-TTL:PT1H
BEGIN:VTIMEZONE
TZID:UTC
BEGIN:STANDARD
TZOFFSETFROM:+0000
TZOFFSETTO:+0000
TZNAME:UTC
DTSTART:20240101T000000
END:STANDARD
END:VTIMEZONE
BEGIN:VEVENT
DTSTART;TZID=UTC:20250513T210000
DTEND;TZID=UTC:20250513T223000
DTSTAMP:20260424T063557
CREATED:20250526T071856Z
LAST-MODIFIED:20250527T085348Z
UID:7443-1747170000-1747175400@gocvakfi.org
SUMMARY:Göç ile İlgili Mitler ve Gerçekler – Kitap Tanıtım Etkinliği
DESCRIPTION:Göç Araştırmaları Vakfı dünyanın en önemli göç uzmanlarından Prof. Dr. Hein de Haas’ı ağırlıyor. \nEtkinlik Detayları: \nTarih: 13 Mayıs 2025\, Salı\nSaat: 21.00 (TSİ) \nGAV Perspektif Yayınları tarafından Türkçeye kazandırılan “Göç ile İlgili Mitler ve Gerçekler” kitabının yazarı olan Prof. Dr. Hein de Haas’ın katılacağı bu özel programda moderasyonu GAV Perspektif Yayın Koordinatörü Prof. Dr. Birgül Demirtaş üstlenecek. \nÇevrim içi olarak gerçekleşecek program\, Türkçe ve İngilizce altyazı seçeneklerinin de sunulacağı iki farklı bölümden oluşacak. \n\nProgramın ilk bölümünde Prof. Dr. Hein de Haas\, kitabı İngilizce olarak tanıtacak ve katılımcıların sorularını yanıtlayacak.\nİkinci bölümde ise Prof. Dr. Birgül Demirtaş\, kitabı Türkçe olarak değerlendirecek ve izleyicilerle kısa bir soru-cevap gerçekleştirecek.\n\n  \nZoom Bilgileri:\nBağlantı: https://us02web.zoom.us/j/85900199472?pwd=alyabGO4Mzbly2anEBw6zBh6tddZaD.1\nToplantı Kimliği: 859 0019 9472\nParola: 893857 \nGöç çalışmalarıyla ilgilenen akademisyenleri\, araştırmacıları ve tüm ilgilileri bu önemli etkinliğe bekleriz.
URL:https://gocvakfi.org/etkinlikler/7443/
LOCATION:Göç Araştırmaları Vakfı / Göç Araştırmaları Vakfı Zoom Platformu
CATEGORIES:Etkinlikler
ATTACH;FMTTYPE=image/jpeg:https://gocvakfi.org/wp-content/uploads/2025/04/gav_kitaptanitim_2025_gocileilgilimitlervegercekler2_djtl_webbanner-1-scaled.jpg
ORGANIZER;CN="G%C3%B6%C3%A7 Ara%C5%9Ft%C4%B1rmalar%C4%B1 Vakf%C4%B1":MAILTO:asdasdsa@gmail.com
END:VEVENT
END:VCALENDAR