BEGIN:VCALENDAR
VERSION:2.0
PRODID:-//Göç Araştırmaları Vakfı - ECPv6.15.20//NONSGML v1.0//EN
CALSCALE:GREGORIAN
METHOD:PUBLISH
X-ORIGINAL-URL:https://gocvakfi.org
X-WR-CALDESC:Göç Araştırmaları Vakfı için etkinlikler
REFRESH-INTERVAL;VALUE=DURATION:PT1H
X-Robots-Tag:noindex
X-PUBLISHED-TTL:PT1H
BEGIN:VTIMEZONE
TZID:UTC
BEGIN:STANDARD
TZOFFSETFROM:+0000
TZOFFSETTO:+0000
TZNAME:UTC
DTSTART:20240101T000000
END:STANDARD
END:VTIMEZONE
BEGIN:VEVENT
DTSTART;TZID=UTC:20250507T100000
DTEND;TZID=UTC:20250507T163000
DTSTAMP:20260424T060755
CREATED:20250526T073659Z
LAST-MODIFIED:20250527T084929Z
UID:7449-1746612000-1746635400@gocvakfi.org
SUMMARY:8. TYAP Atölyesi: "Suriye’den Türkiye’ye\, Türkiye’den Suriye’ye Göç"
DESCRIPTION:İstanbul Medeniyet Üniversitesi Toplumsal Yapı Araştırmaları Programı (TYAP) kapsamında bu yıl sekizincisi düzenlenen atölye\, Göç Araştırmaları Vakfı (GAV) ortaklığıyla ve “Suriye’den Türkiye’ye\, Türkiye’den Suriye’ye Göç” temasıyla gerçekleştirilecek.\n \nDijital medyada göç söyleminden kadınların iş gücü piyasasındaki deneyimlerine\, geri dönüş politikalarından entegrasyon süreçlerine kadar birçok başlık katılımcıların bildirileriyle ele alınacak.\nTarih: 7 Mayıs 2025\, Çarşamba\nSaat: 10.00-16.30\nYer: İstanbul Medeniyet Üniversitesi\, Ziraat Bankası Kütüphanesi Hasan Polatkan Konferans Salonu \nProgramımız yüz yüze gerçekleşecektir. Programa fiziksel katılım imkanı olmayanlar için Zoom üzerinden canlı yayın gerçekleştirilecektir. \nZoom Bilgileri:\nBağlantı: https://us02web.zoom.us/j/84326340146?pwd=F1KFTaa1xVKNizDPblC3ZDGXqfoU1V.1\nToplantı Kimliği: 843 2634 0146\nParola: 904450
URL:https://gocvakfi.org/etkinlikler/8-tyap-atolyesi-suriyeden-turkiyeye-turkiyeden-suriyeye-goc/
LOCATION:Göç Araştırmaları Vakfı / Göç Araştırmaları Vakfı Zoom Platformu
CATEGORIES:Etkinlikler
ATTACH;FMTTYPE=image/png:https://gocvakfi.org/wp-content/uploads/2025/05/AnalizRapor-Webbanner-1-1.png
ORGANIZER;CN="G%C3%B6%C3%A7 Ara%C5%9Ft%C4%B1rmalar%C4%B1 Vakf%C4%B1":MAILTO:asdasdsa@gmail.com
END:VEVENT
END:VCALENDAR