BEGIN:VCALENDAR
VERSION:2.0
PRODID:-//Göç Araştırmaları Vakfı - ECPv6.15.20//NONSGML v1.0//EN
CALSCALE:GREGORIAN
METHOD:PUBLISH
X-WR-CALNAME:Göç Araştırmaları Vakfı
X-ORIGINAL-URL:https://gocvakfi.org
X-WR-CALDESC:Göç Araştırmaları Vakfı için etkinlikler
REFRESH-INTERVAL;VALUE=DURATION:PT1H
X-Robots-Tag:noindex
X-PUBLISHED-TTL:PT1H
BEGIN:VTIMEZONE
TZID:UTC
BEGIN:STANDARD
TZOFFSETFROM:+0000
TZOFFSETTO:+0000
TZNAME:UTC
DTSTART:20230101T000000
END:STANDARD
END:VTIMEZONE
BEGIN:VEVENT
DTSTART;TZID=UTC:20240629T100000
DTEND;TZID=UTC:20240629T120000
DTSTAMP:20260425T025059
CREATED:20250527T120121Z
LAST-MODIFIED:20250527T120121Z
UID:7611-1719655200-1719662400@gocvakfi.org
SUMMARY:Erasmus+ Proje Yazma Eğitimi 4. Hafta
DESCRIPTION:Doç. Dr. Hakan Gülerce’nin eğitmenliğinde uygulamalı olarak gerçekleştirilen Erasmus+ Proje Yazma Eğitimi’mizin dördüncü dersi tamamlandı
URL:https://gocvakfi.org/etkinlikler/erasmus-proje-yazma-egitimi-4-hafta/
LOCATION:Göç Araştırmaları Vakfı / Göç Araştırmaları Vakfı Zoom Platformu
CATEGORIES:Etkinlikler
END:VEVENT
END:VCALENDAR