BEGIN:VCALENDAR
VERSION:2.0
PRODID:-//Göç Araştırmaları Vakfı - ECPv6.15.20//NONSGML v1.0//EN
CALSCALE:GREGORIAN
METHOD:PUBLISH
X-WR-CALNAME:Göç Araştırmaları Vakfı
X-ORIGINAL-URL:https://gocvakfi.org
X-WR-CALDESC:Göç Araştırmaları Vakfı için etkinlikler
REFRESH-INTERVAL;VALUE=DURATION:PT1H
X-Robots-Tag:noindex
X-PUBLISHED-TTL:PT1H
BEGIN:VTIMEZONE
TZID:UTC
BEGIN:STANDARD
TZOFFSETFROM:+0000
TZOFFSETTO:+0000
TZNAME:UTC
DTSTART:20230101T000000
END:STANDARD
END:VTIMEZONE
BEGIN:VEVENT
DTSTART;TZID=UTC:20240622T140000
DTEND;TZID=UTC:20240622T160000
DTSTAMP:20260425T025221
CREATED:20250527T121910Z
LAST-MODIFIED:20250527T121910Z
UID:7625-1719064800-1719072000@gocvakfi.org
SUMMARY:Tez Sunumları Seminer Serisi: Küresel İklim Değişiminin Göçler Üzerine Etkileri ve Türkiye’ye Dair Öngörüler (M. Kadri Tekin)
DESCRIPTION:Akademimiz bünyesinde başlatılan Tez Sunumları Seminer Serimiz kapsamında Dr. Mehmet Kadri Tekin’in konuşmacı olacağı “Küresel İklim Değişiminin Göçler Üzerine Etkileri ve Türkiye’ye Dair Öngörüler” başlıklı seminerimiz 22 Haziran Cumartesi Türkiye saati ile 14.00’da Zoom üzerinden çevrim içi olarak gerçekleşecektir. \nNot: Çevrim içi olarak gerçekleşecek etkinliğimize katılım herkese açıktır. Zoom bilgileri aşağıdadır. \nToplantı Kimliği: 873 6835 7438 \nParola: 317154
URL:https://gocvakfi.org/etkinlikler/tez-sunumlari-seminer-serisi-kuresel-iklim-degisiminin-gocler-uzerine-etkileri-ve-turkiyeye-dair-ongoruler-m-kadri-tekin/
LOCATION:Göç Araştırmaları Vakfı / Göç Araştırmaları Vakfı Zoom Platformu
CATEGORIES:Etkinlikler
ATTACH;FMTTYPE=image/jpeg:https://gocvakfi.org/wp-content/uploads/2025/05/2-min-scaled-1.jpg
ORGANIZER;CN="G%C3%B6%C3%A7 Ara%C5%9Ft%C4%B1rmalar%C4%B1 Vakf%C4%B1":MAILTO:asdasdsa@gmail.com
END:VEVENT
END:VCALENDAR