BEGIN:VCALENDAR
VERSION:2.0
PRODID:-//Göç Araştırmaları Vakfı - ECPv6.15.20//NONSGML v1.0//EN
CALSCALE:GREGORIAN
METHOD:PUBLISH
X-WR-CALNAME:Göç Araştırmaları Vakfı
X-ORIGINAL-URL:https://gocvakfi.org
X-WR-CALDESC:Göç Araştırmaları Vakfı için etkinlikler
REFRESH-INTERVAL;VALUE=DURATION:PT1H
X-Robots-Tag:noindex
X-PUBLISHED-TTL:PT1H
BEGIN:VTIMEZONE
TZID:UTC
BEGIN:STANDARD
TZOFFSETFROM:+0000
TZOFFSETTO:+0000
TZNAME:UTC
DTSTART:20230101T000000
END:STANDARD
END:VTIMEZONE
BEGIN:VEVENT
DTSTART;TZID=UTC:20240601T100000
DTEND;TZID=UTC:20240601T120000
DTSTAMP:20260425T025115
CREATED:20250527T120040Z
LAST-MODIFIED:20250527T120040Z
UID:7609-1717236000-1717243200@gocvakfi.org
SUMMARY:Erasmus+ Proje Yazma Eğitimi 3. Hafta
DESCRIPTION:Doç. Dr. Hakan Gülerce’nin eğitmenliğinde uygulamalı olarak gerçekleştirilen Erasmus+ Proje Yazma Eğitimi’mizin üçüncü dersi tamamlandı.
URL:https://gocvakfi.org/etkinlikler/erasmus-proje-yazma-egitimi-3-hafta/
LOCATION:Göç Araştırmaları Vakfı / Göç Araştırmaları Vakfı Zoom Platformu
CATEGORIES:Etkinlikler
ORGANIZER;CN="G%C3%B6%C3%A7 Ara%C5%9Ft%C4%B1rmalar%C4%B1 Vakf%C4%B1":MAILTO:asdasdsa@gmail.com
END:VEVENT
BEGIN:VEVENT
DTSTART;TZID=UTC:20240601T140000
DTEND;TZID=UTC:20240601T160000
DTSTAMP:20260425T025115
CREATED:20250527T122033Z
LAST-MODIFIED:20250527T122033Z
UID:7629-1717250400-1717257600@gocvakfi.org
SUMMARY:Tez Sunumları Seminer Serisi: Göçmenlik Deneyiminde Kimlik Algısı ve Kültürlerarası İletişim: Türkiye’deki Senegalliler Örneği (Halil İbrahim Koç)
DESCRIPTION:Akademimiz bünyesinde başlatılan Tez Sunumları Seminer Serimiz kapsamında Dr. Halil İbrahim Koç’un konuşmacı olacağı “Göçmenlik Deneyiminde Kimlik Algısı ve Kültürlerarası İletişim: Türkiye’deki Senegalliler Örneği” başlıklı seminerimiz 1 Haziran Cumartesi günü Türkiye saati ile 14.00’da Zoom üzerinden çevrim içi olarak gerçekleşecektir. \nNot: Çevrim içi olarak gerçekleşecek etkinliğimize katılım herkese açıktır. Zoom bilgileri aşağıdadır. \nToplantı Kimliği: 873 6835 7438 \nParola: 317154
URL:https://gocvakfi.org/etkinlikler/tez-sunumlari-seminer-serisi-gocmenlik-deneyiminde-kimlik-algisi-ve-kulturlerarasi-iletisim-turkiyedeki-senegalliler-ornegi-halil-ibrahim-koc/
LOCATION:Göç Araştırmaları Vakfı / Göç Araştırmaları Vakfı Zoom Platformu
CATEGORIES:Etkinlikler
ATTACH;FMTTYPE=image/jpeg:https://gocvakfi.org/wp-content/uploads/2025/05/1-min-scaled-1.jpg
ORGANIZER;CN="G%C3%B6%C3%A7 Ara%C5%9Ft%C4%B1rmalar%C4%B1 Vakf%C4%B1":MAILTO:asdasdsa@gmail.com
END:VEVENT
END:VCALENDAR